BEGIN:VCALENDAR
VERSION:2.0
PRODID:-//PYVOBJECT//NONSGML Version 1//EN
BEGIN:VEVENT
UID:25650:4072
DTSTART:20160711T000000
DTEND:20161231T000000
DESCRIPTION:Aktuelle Angebote finden Sie hier: http://www.elektro-stingeder
 .at/aktuell
DTSTAMP:20260424T185431Z
SUMMARY:Aktuelle Angebote finden Sie hier: http://www.elektro-stingeder.at/
 aktuell
END:VEVENT
END:VCALENDAR
